BEGIN:VCALENDAR
VERSION:2.0
PRODID:-//wp-events-plugin.com//7.2.3.1//EN
BEGIN:VEVENT
UID:37@cdom.org
DTSTART:20231005T183000Z
DTEND:20231005T183000Z
DTSTAMP:20230828T192214Z
URL:https://cdom.org/events/st-faustina-feast-day-mass/
SUMMARY:St. Faustina Feast Day Mass
DESCRIPTION:
LOCATION:St. Faustina Shrine/St. Ann Catholic Church\, 6529 Stage Rd\, Bart
 lett\, TN\, 38134\, United States
X-APPLE-STRUCTURED-LOCATION;VALUE=URI;X-ADDRESS=6529 Stage Rd\, Bartlett\, 
 TN\, 38134\, United States;X-APPLE-RADIUS=100;X-TITLE=St. Faustina Shrine/
 St. Ann Catholic Church:geo:0,0
END:VEVENT
END:VCALENDAR