BEGIN:VCALENDAR
VERSION:2.0
PRODID:-//wp-events-plugin.com//7.2.3.1//EN
BEGIN:VEVENT
UID:45@cdom.org
DTSTART:20231110T200000Z
DTEND:20231112T160000Z
DTSTAMP:20231018T151540Z
URL:https://cdom.org/events/voyage-nov-10-12-2023/
SUMMARY:VOYAGE Nov. 10 - 12\, 2023
DESCRIPTION:VOYAGE is designed to allow young Catholic Christians (7th and 
 8th graders) to develop a better understanding of themselves through their
  gifts and talents and increase their self-esteem\, self-worth\, and self-
 confidence. Furthermore\, VOYAGE tries to foster in each young person thei
 r gifts and talents and encourage them to set sail and put these gifts and
  talents to work for God and His holy people. Voyage is unique and is to b
 e experienced only once!\n\nDate: November 10 – 12\, 2023\n\nTime: Start
 s at 8:00pm on Friday and Ends at 4:00pm on Sunday\n\nFor: 7th and 8th Gra
 de students\n\nPlace: St. Benedict at Auburndale\n\n8250 Varnavas Dr in Co
 rdova\n\nCost is: $75.00\n\nRegister at:  Voyage Nov 2023\n\nPlease check
  your email for a link to the REQUIRED Signed Health Form after submitting
  registration. This form MUST be sent back prior to event or may be turned
  in at the event. No admittance is allowed without the form.\n\nAdditional
  important details about VOYAGE will be sent to the parent and student via
  email. Please watch for these emails from Sharon.kowalke@cc.cdom.org.\n\n
 Payments are non-refundable but are transferable to another date.
END:VEVENT
END:VCALENDAR